BEGIN:VCALENDAR
VERSION:2.0
PRODID:-//Brooklands Technical College - ECPv6.15.20//NONSGML v1.0//EN
CALSCALE:GREGORIAN
METHOD:PUBLISH
X-WR-CALNAME:Brooklands Technical College
X-ORIGINAL-URL:https://www.brooklands.ac.uk
X-WR-CALDESC:Events for Brooklands Technical College
REFRESH-INTERVAL;VALUE=DURATION:PT1H
X-Robots-Tag:noindex
X-PUBLISHED-TTL:PT1H
BEGIN:VTIMEZONE
TZID:Europe/London
BEGIN:DAYLIGHT
TZOFFSETFROM:+0000
TZOFFSETTO:+0100
TZNAME:BST
DTSTART:20230326T010000
END:DAYLIGHT
BEGIN:STANDARD
TZOFFSETFROM:+0100
TZOFFSETTO:+0000
TZNAME:GMT
DTSTART:20231029T010000
END:STANDARD
BEGIN:DAYLIGHT
TZOFFSETFROM:+0000
TZOFFSETTO:+0100
TZNAME:BST
DTSTART:20240331T010000
END:DAYLIGHT
BEGIN:STANDARD
TZOFFSETFROM:+0100
TZOFFSETTO:+0000
TZNAME:GMT
DTSTART:20241027T010000
END:STANDARD
BEGIN:DAYLIGHT
TZOFFSETFROM:+0000
TZOFFSETTO:+0100
TZNAME:BST
DTSTART:20250330T010000
END:DAYLIGHT
BEGIN:STANDARD
TZOFFSETFROM:+0100
TZOFFSETTO:+0000
TZNAME:GMT
DTSTART:20251026T010000
END:STANDARD
END:VTIMEZONE
BEGIN:VEVENT
DTSTART;TZID=Europe/London:20240813T093000
DTEND;TZID=Europe/London:20240827T120000
DTSTAMP:20260420T220457
CREATED:20240812T153813Z
LAST-MODIFIED:20240812T155100Z
UID:16318-1723541400-1724760000@www.brooklands.ac.uk
SUMMARY:Apprenticeship Assessment Days
DESCRIPTION:Are you planning to enrol as an apprentice this year?  \nPlease attend one of our apprenticeship assessment days at our Weybridge campus. \nDates and courses below: \n13th August 9:30 – 12:00 (Electrical Apprentices) \n16th August 9:30 – 12:00 (Brickwork Apprentices) \n19th August 9:30 – 12:00 (Brickwork Apprentices) \n20th August 9:30 – 12:00 (Early Years Apprentices) \n23rd August 9:30 – 12:00 (Motor Vehicle) \n27th August 9:30 – 12:00 (Carpentry & Motor Vehicle) \n  \nFor more information contact our apprenticeship team on 01932 797733 \n  \nUseful Links \nBrooklands College Apprenticeship Information: https://www.brooklands.ac.uk/apprenticeships/what-is-an-apprenticeship/ \nEmployers:  https://www.apprenticeships.gov.uk/employers \nApprentice: https://www.apprenticeships.gov.uk/apprentices
URL:https://www.brooklands.ac.uk/event/apprenticeship-assessment-days/
LOCATION:Brooklands Technical College – Weybridge Campus\, Brooklands Technical College\, Heath Road\, Weybridge\, Surrey\, KT13 8TT\, United Kingdom
CATEGORIES:Apprenticeships
ATTACH;FMTTYPE=image/jpeg:https://www.brooklands.ac.uk/wp-content/uploads/2024/08/apprenticeships.jpg
END:VEVENT
END:VCALENDAR