BEGIN:VCALENDAR
VERSION:2.0
PRODID:-//Brooklands Technical College - ECPv6.15.20//NONSGML v1.0//EN
CALSCALE:GREGORIAN
METHOD:PUBLISH
X-ORIGINAL-URL:https://www.brooklands.ac.uk
X-WR-CALDESC:Events for Brooklands Technical College
REFRESH-INTERVAL;VALUE=DURATION:PT1H
X-Robots-Tag:noindex
X-PUBLISHED-TTL:PT1H
BEGIN:VTIMEZONE
TZID:Europe/London
BEGIN:DAYLIGHT
TZOFFSETFROM:+0000
TZOFFSETTO:+0100
TZNAME:BST
DTSTART:20200329T010000
END:DAYLIGHT
BEGIN:STANDARD
TZOFFSETFROM:+0100
TZOFFSETTO:+0000
TZNAME:GMT
DTSTART:20201025T010000
END:STANDARD
BEGIN:DAYLIGHT
TZOFFSETFROM:+0000
TZOFFSETTO:+0100
TZNAME:BST
DTSTART:20210328T010000
END:DAYLIGHT
BEGIN:STANDARD
TZOFFSETFROM:+0100
TZOFFSETTO:+0000
TZNAME:GMT
DTSTART:20211031T010000
END:STANDARD
BEGIN:DAYLIGHT
TZOFFSETFROM:+0000
TZOFFSETTO:+0100
TZNAME:BST
DTSTART:20220327T010000
END:DAYLIGHT
BEGIN:STANDARD
TZOFFSETFROM:+0100
TZOFFSETTO:+0000
TZNAME:GMT
DTSTART:20221030T010000
END:STANDARD
END:VTIMEZONE
BEGIN:VTIMEZONE
TZID:UTC
BEGIN:STANDARD
TZOFFSETFROM:+0000
TZOFFSETTO:+0000
TZNAME:UTC
DTSTART:20180101T000000
END:STANDARD
END:VTIMEZONE
BEGIN:VEVENT
DTSTART;TZID=Europe/London:20210930T160000
DTEND;TZID=Europe/London:20210930T180000
DTSTAMP:20260420T170741
CREATED:20210922T094637Z
LAST-MODIFIED:20210922T095050Z
UID:10171-1633017600-1633024800@www.brooklands.ac.uk
SUMMARY:Official Brooks Hair & Beauty Opening
DESCRIPTION:Brooklands College are pleased to announce the official launch of Brooks Hair & Beauty in Ashford and would like to invite members of the local community to attend the professional opening event on 30th September. \nOur commercial salons at both Ashford and Weybridge in Surrey provide superb training facilities for Hair & Beauty students to learn and develop the skills needed for their industry. \nThe new salon\, located on Ashford High Street\, is a commercial salon equipped with all the tools needed to perform innovative treatments that you would expect from a professional salon. It offers courses on a part-time and full-time basis for learners looking to start in the industry as well as those looking to develop their skills or retrain. \nCome and celebrate this special occasion with us!
URL:https://www.brooklands.ac.uk/event/official-brooks-hair-beauty-opening/
LOCATION:Brooks Hair & Beauty\, Ashford Salon\, The Education Unit\, 1 Pitcher Lane\, Ashford\, Surrey\, TW15 2BL\, United Kingdom
CATEGORIES:Hair & Beauty
ATTACH;FMTTYPE=image/jpeg:https://www.brooklands.ac.uk/wp-content/uploads/2021/04/WhatsApp-Image-2021-04-26-at-09.18.02.jpeg
END:VEVENT
BEGIN:VEVENT
DTSTART;TZID=UTC:20190404T103000
DTEND;TZID=UTC:20190404T140000
DTSTAMP:20260420T170741
CREATED:20190327T095136Z
LAST-MODIFIED:20190327T101021Z
UID:3806-1554373800-1554386400@www.brooklands.ac.uk
SUMMARY:Pamper & Dine with a three-course lunch
DESCRIPTION:Enjoy a choice of two treatments in our Weybridge Inspire Hair and Beauty salon before making your way to Brooks Restaurant for a delicious lunch and a glass of Prosecco. \nWith appointments for treatments at 10:30am\, the three-course meal will be served at 1pm. The cost for the pamper and three-course lunch is £29.95\, or just £14.95 for the three-course meal only. \nPlease email jennifer.halelamb@brooklands.ac.uk to book your place today. \nLearn more about this event by clicking here.
URL:https://www.brooklands.ac.uk/event/pamper-dine-lunch-apr19/
LOCATION:Brooklands Technical College – Weybridge Campus\, Brooklands Technical College\, Heath Road\, Weybridge\, Surrey\, KT13 8TT\, United Kingdom
CATEGORIES:Brooks Restaurant,Hair & Beauty
ATTACH;FMTTYPE=image/jpeg:https://www.brooklands.ac.uk/wp-content/uploads/2019/03/Pamper-Dine-Poster_5695.jpg
END:VEVENT
BEGIN:VEVENT
DTSTART;VALUE=DATE:20190307
DTEND;VALUE=DATE:20190308
DTSTAMP:20260420T170741
CREATED:20190227T103005Z
LAST-MODIFIED:20190227T113710Z
UID:3401-1551916800-1552003199@www.brooklands.ac.uk
SUMMARY:Pamper & Dine at Brooklands College
DESCRIPTION:Brooklands College is set to hold a Pamper and Dine event on Thursday 7th March\, offering you the perfect opportunity to unwind and relax while receiving a luxury pamper. \nAppointments for the pampering session will be from 10:30am whilst High Tea will be served at 1pm in Brooks Restaurant. Treat yourself to a luxury pamper (facial\, manicure or pedicure)\, blow dry or shampoo and set\, then make your way to Brooks Restaurant for a delicious High Tea and a glass of Prosecco\, costing just £24.95 per head. \nInterested? Book your place today by emailing jennifer.halelamb@brooklands.ac.uk or by filling out the following form.
URL:https://www.brooklands.ac.uk/event/pamper-high-tea-treat-mar19/
LOCATION:Brooklands Technical College – Weybridge Campus\, Brooklands Technical College\, Heath Road\, Weybridge\, Surrey\, KT13 8TT\, United Kingdom
CATEGORIES:Brooks Restaurant,Hair & Beauty
ATTACH;FMTTYPE=image/jpeg:https://www.brooklands.ac.uk/wp-content/uploads/2019/02/Pamper-Dine-Poster.jpg
END:VEVENT
END:VCALENDAR