BEGIN:VCALENDAR
VERSION:2.0
PRODID:-//Brooklands Technical College - ECPv6.15.20//NONSGML v1.0//EN
CALSCALE:GREGORIAN
METHOD:PUBLISH
X-ORIGINAL-URL:https://www.brooklands.ac.uk
X-WR-CALDESC:Events for Brooklands Technical College
REFRESH-INTERVAL;VALUE=DURATION:PT1H
X-Robots-Tag:noindex
X-PUBLISHED-TTL:PT1H
BEGIN:VTIMEZONE
TZID:Europe/London
BEGIN:DAYLIGHT
TZOFFSETFROM:+0000
TZOFFSETTO:+0100
TZNAME:BST
DTSTART:20230326T010000
END:DAYLIGHT
BEGIN:STANDARD
TZOFFSETFROM:+0100
TZOFFSETTO:+0000
TZNAME:GMT
DTSTART:20231029T010000
END:STANDARD
BEGIN:DAYLIGHT
TZOFFSETFROM:+0000
TZOFFSETTO:+0100
TZNAME:BST
DTSTART:20240331T010000
END:DAYLIGHT
BEGIN:STANDARD
TZOFFSETFROM:+0100
TZOFFSETTO:+0000
TZNAME:GMT
DTSTART:20241027T010000
END:STANDARD
BEGIN:DAYLIGHT
TZOFFSETFROM:+0000
TZOFFSETTO:+0100
TZNAME:BST
DTSTART:20250330T010000
END:DAYLIGHT
BEGIN:STANDARD
TZOFFSETFROM:+0100
TZOFFSETTO:+0000
TZNAME:GMT
DTSTART:20251026T010000
END:STANDARD
BEGIN:DAYLIGHT
TZOFFSETFROM:+0000
TZOFFSETTO:+0100
TZNAME:BST
DTSTART:20260329T010000
END:DAYLIGHT
BEGIN:STANDARD
TZOFFSETFROM:+0100
TZOFFSETTO:+0000
TZNAME:GMT
DTSTART:20261025T010000
END:STANDARD
END:VTIMEZONE
BEGIN:VEVENT
DTSTART;TZID=Europe/London:20250424T163000
DTEND;TZID=Europe/London:20250424T190000
DTSTAMP:20260420T151939
CREATED:20240911T085931Z
LAST-MODIFIED:20250204T090605Z
UID:16570-1745512200-1745521200@www.brooklands.ac.uk
SUMMARY:Open Event - April 2025
DESCRIPTION:Brooklands Technical College Open Events are for school leavers and adult learners. So\, whether you’re looking to study full time\, get into an apprenticeship\, step into higher education or join a part-time course – Brooklands Technical College has something for you! \nOpen Events provide a good opportunity to come and visit our campus and see our fantastic facilities. You will be able to speak to our careers team\, meet our tutors and gain a good understanding of the courses we have to offer.\n \nWe offer: \n\nFull-time courses for school leavers of all abilities ranging from Entry Level to Level 3\nT Levels and Apprenticeships\nBTECs\, Technical courses\, SEND and ESOL courses\nPart-time courses for adults (19+) in Leisure and Professional courses\, ESOL\, Maths\, English and Science\nAccess to Higher Education courses (19+)\nUniversity Level courses – Levels 4\, 5 and 6\n\n\nOn the day you can:\n \n\nAttend welcome presentations from the Principal and Senior Leadership Team\nChat with our experienced tutors across a range of Full-time and Part-time courses\nTour of our facilities and talk to our Student Ambassadors\nDiscover more about Apprenticeships\, Higher Education and T Levels\nSpeak to our Additional Learning Support Team\nTalk to our Admissions Team for advice and guidance on course requirements and financial support options.\n\n  \nParking:\n \n\nPlease note that parking spaces for this event are very limited. We kindly encourage local attendees to use public transport where possible to allow others to make use of the available parking. If you are planning to drive to our Weybridge Campus\, please book a parking space by clicking here.\n\n\nThis event will be photographed. By attending this event\, you grant permission for the College to capture and use photographs and videos of you for promotional purposes related to the event. \n \nPlease register your details to attend this event. Please ensure the booking is under the students name. \n\nBook now!
URL:https://www.brooklands.ac.uk/event/open-event-april-2025/
LOCATION:Brooklands Technical College – Weybridge Campus\, Brooklands Technical College\, Heath Road\, Weybridge\, Surrey\, KT13 8TT\, United Kingdom
CATEGORIES:Open Event
ATTACH;FMTTYPE=image/jpeg:https://www.brooklands.ac.uk/wp-content/uploads/2024/09/OpenEventapr2025.jpg
ORGANIZER;CN="Brooklands Technical College":MAILTO:info@brooklands.ac.uk
END:VEVENT
BEGIN:VEVENT
DTSTART;TZID=Europe/London:20250212T163000
DTEND;TZID=Europe/London:20250212T190000
DTSTAMP:20260420T151939
CREATED:20240711T101301Z
LAST-MODIFIED:20250204T090441Z
UID:16144-1739377800-1739386800@www.brooklands.ac.uk
SUMMARY:Open Event - February 2025
DESCRIPTION:Brooklands Technical College Open Events are for school leavers and adult learners. So\, whether you’re looking to study full time\, get into an apprenticeship\, step into higher education or join a part-time course – Brooklands Technical College has something for you! \nOpen Events provide a good opportunity to come and visit our campus and see our fantastic facilities. You will be able to speak to our careers team\, meet our tutors and gain a good understanding of the courses we have to offer.\n \nWe offer: \n\nFull-time courses for school leavers of all abilities ranging from Entry Level to Level 3\nT Levels and Apprenticeships\nBTECs\, Technical courses\, SEND and ESOL courses\nPart-time courses for adults (19+) in Leisure and Professional courses\, ESOL\, Maths\, English and Science\nAccess to Higher Education courses (19+)\nUniversity Level courses – Levels 4\, 5 and 6\n\n\nOn the day you can:\n \n\nAttend welcome presentations from the Principal and Senior Leadership Team\nChat with our experienced tutors across a range of Full-time and Part-time courses\nTour of our facilities and talk to our Student Ambassadors\nDiscover more about Apprenticeships\, Higher Education and T Levels\nSpeak to our Additional Learning Support Team\nTalk to our Admissions Team for advice and guidance on course requirements and financial support options.\n\n\nParking:\n \n\nPlease note that parking spaces for this event are very limited. We kindly encourage local attendees to use public transport where possible to allow others to make use of the available parking. If you are planning to drive to our Weybridge Campus\, please book a parking space by clicking here.\n\n\nThis event will be photographed. By attending this event\, you grant permission for the College to capture and use photographs and videos of you for promotional purposes related to the event. \n \nPlease register your details below to attend this event. Please ensure the booking is under the students name. \n\nBook now!
URL:https://www.brooklands.ac.uk/event/open-event-february-2025/
LOCATION:Brooklands Technical College – Weybridge Campus\, Brooklands Technical College\, Heath Road\, Weybridge\, Surrey\, KT13 8TT\, United Kingdom
CATEGORIES:Open Event
ATTACH;FMTTYPE=image/jpeg:https://www.brooklands.ac.uk/wp-content/uploads/2024/07/OpenEventfeb2025.jpg
ORGANIZER;CN="Brooklands Technical College":MAILTO:info@brooklands.ac.uk
END:VEVENT
BEGIN:VEVENT
DTSTART;TZID=Europe/London:20241009T163000
DTEND;TZID=Europe/London:20241009T190000
DTSTAMP:20260420T151939
CREATED:20240711T094643Z
LAST-MODIFIED:20241004T153332Z
UID:16138-1728491400-1728500400@www.brooklands.ac.uk
SUMMARY:Open Event - October 2024
DESCRIPTION:Brooklands College Open Events are for school leavers and adult learners. So\, whether you’re looking to study full time\, get into an apprenticeship\, step into higher education or join a part-time course – Brooklands College has something for you! \nOpen Events provide a good opportunity to come and visit our campus and see our fantastic facilities. You will be able to speak to our careers team\, meet our tutors and gain a good understanding of the courses we have to offer.\n \nWe offer: \n\nFull-time courses for school leavers of all abilities ranging from Entry Level to Level 3\nT Levels and Apprenticeships\nBTECs\, Technical courses\, SEND and ESOL courses\nPart-time courses for adults (19+) in Leisure and Professional courses\, ESOL\, Maths\, English and Science\nAccess to Higher Education courses (19+)\nUniversity Level courses – Levels 4\, 5 and 6\n\n\nOn the day you can:\n \n\nAttend welcome presentations from the Principal and Senior Leadership Team\nChat with our experienced tutors across a range of Full-time and Part-time courses\nTour of our facilities and talk to our Student Ambassadors\nDiscover more about Apprenticeships\, Higher Education and T Levels\nSpeak to our Additional Learning Support Team\nTalk to our Admissions Team for advice and guidance on course requirements and financial support options.\n\nDownload our Open Event Guide for the full details! \nOpen Event Guide \nPLEASE NOTE: PARKING TO THIS EVENT IS LIMITED.  \nPlease travel by public transport if at all possible. \nTake a look at our travel page for public transport routes: \nTravelling to College\n \nThis event will be photographed. By attending this event\, you grant permission for the College to capture and use photographs and videos of you for promotional purposes related to the event. \n \nPlease register your details to attend this event. Please ensure the booking is under the students name. \n\n 
URL:https://www.brooklands.ac.uk/event/open-event-october-2024/
LOCATION:Brooklands Technical College – Weybridge Campus\, Brooklands Technical College\, Heath Road\, Weybridge\, Surrey\, KT13 8TT\, United Kingdom
CATEGORIES:Open Event
ATTACH;FMTTYPE=image/jpeg:https://www.brooklands.ac.uk/wp-content/uploads/2024/07/OpenEventoct24.jpg
END:VEVENT
END:VCALENDAR